BEGIN:VCALENDAR
VERSION:2.0
PRODID:icalendar-ruby
CALSCALE:GREGORIAN
BEGIN:VEVENT
DTSTAMP:20260424T213444Z
UID:4m5qlw
DTSTART;VALUE=DATE:20180929
DTEND;VALUE=DATE:20180930
CLASS:PUBLIC
CREATED:20180504T111640
DESCRIPTION: We're in the process of building the foundations of a healthie
 r Mozilla UK Community.  \n\n This event will be different. A chance to me
 et together\, play some games\, have a natter\, and a bit of a laugh.  \n\
 n This 29th September event (14:00 - 17:00) will be a special gaming day a
 t Namco. They have ping-ping\, air hockey\, ten pin bowling\, snooker\, an
  escape room\, and stacks of arcade games too. An opportunity to meet face
 -to-face and PLAY.  \n\n I look forward to meeting you in person. \n\n Dav
 id Ross\, volunteer Mozilla Rep \n
LAST-MODIFIED:20181111T090532
LOCATION:Namco Funscape\, County Hall\, Westminster Bridge Rd\, Lambeth\, L
 ondon SE1 7PB
ORGANIZER:mailto:davross@protonmail.com
SUMMARY:MozCoffee - September 2018
URL;VALUE=URI:https://ti.to/london-community/mozcoffee-september-2018
URL;VALUE=URI:https://ti.to/london-community/mozcoffee-september-2018
END:VEVENT
BEGIN:VEVENT
DTSTAMP:20260424T213444Z
UID:4m5qlw1020721
DTSTART:20180929T140000
DTEND:20180929T170000
CLASS:PUBLIC
CREATED:20180504T111644
LAST-MODIFIED:20180504T114108
ORGANIZER:mailto:davross@protonmail.com
SUMMARY:[MozCoffee - September 2018] MozCoffee
URL;VALUE=URI:https://ti.to/london-community/mozcoffee-september-2018
URL;VALUE=URI:https://ti.to/london-community/mozcoffee-september-2018
END:VEVENT
END:VCALENDAR
