BEGIN:VCALENDAR
VERSION:2.0
PRODID:icalendar-ruby
CALSCALE:GREGORIAN
BEGIN:VEVENT
DTSTAMP:20260424T213054Z
UID:vVPsfg
DTSTART;VALUE=DATE:20180818
DTEND;VALUE=DATE:20180819
CLASS:PUBLIC
CREATED:20180504T095140
DESCRIPTION: We're in the process of building the foundations of a healthie
 r Mozilla UK Community.  \n\n During recent weekly open calls we've collec
 tively begun a focus on a number of key priorities. A chance to meet toget
 her\, action plan stuff\, have a natter\, and a bit of a laugh. \n\n This 
 18th August event (14:00 - 18:00) will be a low-key affair\, I'll even hav
 e swag on hand. An opportunity to meet face-to-face\, in the fresh air of 
 Hamstead Heath\, and look to improving the UK Community for all who seek t
 o participate.  \n\n I look forward to meeting you in person. \n\n David R
 oss\, volunteer Mozilla Rep \n
LAST-MODIFIED:20180818T111626
LOCATION:Kenwood House\, Hampstead Lane\, Hampstead\, NW3 7JR
ORGANIZER:mailto:davross@protonmail.com
SUMMARY:MozCoffee / MozPub Mashup - August 2018
URL;VALUE=URI:https://ti.to/london-community/mozcoffee-august-2018
URL;VALUE=URI:https://ti.to/london-community/mozcoffee-august-2018
END:VEVENT
BEGIN:VEVENT
DTSTAMP:20260424T213054Z
UID:vVPsfg1020717
DTSTART:20180630T140000
DTEND:20180630T170000
CLASS:PUBLIC
CREATED:20180504T095145
LAST-MODIFIED:20180504T114502
ORGANIZER:mailto:davross@protonmail.com
SUMMARY:[MozCoffee / MozPub Mashup - August 2018] MozCoffee
URL;VALUE=URI:https://ti.to/london-community/mozcoffee-august-2018
URL;VALUE=URI:https://ti.to/london-community/mozcoffee-august-2018
END:VEVENT
END:VCALENDAR
