BEGIN:VCALENDAR
VERSION:2.0
PRODID:icalendar-ruby
CALSCALE:GREGORIAN
BEGIN:VEVENT
DTSTAMP:20260423T183405Z
UID:IbxsPA
DTSTART;VALUE=DATE:20150919
DTEND;VALUE=DATE:20150920
CLASS:PUBLIC
CREATED:20150617T182709
DESCRIPTION: More than 100 voices sang in support of Motor Neurone Disease 
 in memory of Rick Peckham. The cast was made up of professional\, semi-pro
 s and experienced Sussex singers. The programme was packed with popular tu
 nes to raise the roof...and on the night they did! \n
LAST-MODIFIED:20150921T202259
LOCATION:Burgess Hill\, West Sussex
ORGANIZER:mailto:susan@leagraham.com
SUMMARY:Night of 100 Voices
URL;VALUE=URI:https://ti.to/lg/Night-of-100-voices
URL;VALUE=URI:https://ti.to/lg/Night-of-100-voices
END:VEVENT
END:VCALENDAR
