BEGIN:VCALENDAR
VERSION:2.0
PRODID:icalendar-ruby
CALSCALE:GREGORIAN
BEGIN:VEVENT
DTSTAMP:20260421T110726Z
UID:IxHq2w
DTSTART:20231231T210000
DTEND:20240101T013000
CLASS:PUBLIC
CREATED:20231214T120405
DESCRIPTION: Get ready for an unforgettable night! We're thrilled to announ
 ce that our beloved and inimitable resident\, Pete Woods\, will be taking 
 the reigns on the top floor. 🪩  \n\n Meanwhile\, the incredible Jungle 
 Book Legion will be in-charge of the middle floor –expect wild beats and
  untamed rhythms ensuring the energy is sky-high! 🌿  \n\n And of course
 \, not to be missed\, our own DJ Time of the Month will be rattling the ti
 n on the Back Roof Terrace. 🤝 \n\n Join us for another wild ride this N
 ew Year's Eve! Full club production including confetti cannons\, balloon d
 rop and pyrotechnics. 🧨🎈 \n
LAST-MODIFIED:20250718T170114
LOCATION:Lavery's
ORGANIZER:mailto:tickets@laverysbelfast.com
SUMMARY:New Year's Eve 2023
URL;VALUE=URI:https://ti.to/laverysevents/nye-2023
URL;VALUE=URI:https://ti.to/laverysevents/nye-2023
END:VEVENT
END:VCALENDAR
