BEGIN:VCALENDAR
VERSION:2.0
PRODID:icalendar-ruby
CALSCALE:GREGORIAN
BEGIN:VTIMEZONE
TZID:Europe/Dublin
BEGIN:DAYLIGHT
DTSTART:20251026T010000
TZOFFSETFROM:+0100
TZOFFSETTO:+0000
RRULE:FREQ=YEARLY;BYDAY=-1SU;BYMONTH=10
TZNAME:GMT
END:DAYLIGHT
BEGIN:STANDARD
DTSTART:20250330T020000
TZOFFSETFROM:+0000
TZOFFSETTO:+0100
RRULE:FREQ=YEARLY;BYDAY=-1SU;BYMONTH=3
TZNAME:IST
END:STANDARD
END:VTIMEZONE
BEGIN:VEVENT
DTSTAMP:20260424T161930Z
UID:mDiSBA
DTSTART;TZID=Europe/Dublin:20250524T180000
DTEND;TZID=Europe/Dublin:20250524T203000
CLASS:PUBLIC
CREATED:20250523T191414
DESCRIPTION: William Thompson\, Kyla Cobbler\, Christopher MacArthur-Boyd\,
  David O’Doherty \n
LAST-MODIFIED:20250826T170747
LOCATION:Tom's @ Lavery's
ORGANIZER:mailto:comedy@laverysbelfast.com
SUMMARY:The Cat Laughs Comedy Festival - The Scratching Post
URL;VALUE=URI:https://ti.to/laveryscomedyclub/cat-laughs-comedy
URL;VALUE=URI:https://ti.to/laveryscomedyclub/cat-laughs-comedy
END:VEVENT
END:VCALENDAR
