BEGIN:VCALENDAR
VERSION:2.0
PRODID:icalendar-ruby
CALSCALE:GREGORIAN
BEGIN:VEVENT
DTSTAMP:20260422T204046Z
UID:HndoOg
DTSTART;VALUE=DATE:20180524
DTEND;VALUE=DATE:20180525
CLASS:PUBLIC
CREATED:20180503T231425
DESCRIPTION: Come mix and mingle with other Financial Technologist's Thursd
 ay May 24th. Learn about the newest and fastest changes going on in financ
 ial technology. Finance is undergoing a massive change some call the "fina
 ncial paradigm" or "crypto wars". Laws from 1930-1940 (old right?) are get
 ting broken down with technological innovation in finance. Find partners\,
  talk about your project\, bounce ideas\, discover LA Fintech. \n\n Agenda
 : \n\n 7-9pm  Summer Mix Mingle Network. Do deals!! \n\n Street parking\, 
 valet\, or public. \n
LAST-MODIFIED:20211028T181455
LOCATION:Santa Monica CA
ORGANIZER:mailto:jeff@lafintech.com
SUMMARY:LA Fintech Mix Mingle Network
URL;VALUE=URI:https://ti.to/la-fintech/2018-05
URL;VALUE=URI:https://ti.to/la-fintech/2018-05
END:VEVENT
BEGIN:VEVENT
DTSTAMP:20260422T204046Z
UID:HndoOg1020716
DTSTART:20180524T190000
DTEND:20180524T210000
CLASS:PUBLIC
CREATED:20180503T232546
DESCRIPTION:814 Broadway\, Santa Monica\, CA 90401
LAST-MODIFIED:20180503T234526
ORGANIZER:mailto:jeff@lafintech.com
SUMMARY:[LA Fintech Mix Mingle Network] LA Fintech Demo Mix Mingle Network
URL;VALUE=URI:https://ti.to/la-fintech/2018-05
X-ALT-DESC;FMTTYPE=text/html:814 Broadway\, Santa Monica\, CA 90401
URL;VALUE=URI:https://ti.to/la-fintech/2018-05
END:VEVENT
END:VCALENDAR
