BEGIN:VCALENDAR
VERSION:2.0
PRODID:icalendar-ruby
CALSCALE:GREGORIAN
BEGIN:VEVENT
DTSTAMP:20260423T154835Z
UID:nXAQ0Q
DTSTART:20260730T090000
DTEND:20260730T143000
CLASS:PUBLIC
CREATED:20260219T002530
DESCRIPTION: As local Christian leaders and pastors we are uniquely positio
 ned and responsible for our place in our time! Our oneness with God\, onen
 ess with one another and oneness for the city is our witness to the broken
  community we all serve. \n\n The health of our leaders and churches is vi
 tal. ENGAGE 2026 is an opportunity for Christian Leaders to spend a day to
 gether with one another and with an experienced and seasoned ministry lead
 er Pastor Nick Scott from Western Australia. \n\n We encourage you and you
 r team to set this time aside and believe you will be strengthened and ins
 pired as you continue your journey of leadership and faith in our region. 
 \n
LAST-MODIFIED:20260219T091059
LOCATION:The Grainery Church\, 11 Murray Dwyer Cct\, Newcastle NSW 2304
ORGANIZER:mailto:info@kingdomworks.org.au
SUMMARY:ENGAGE Leaders Lunch 2026
URL;VALUE=URI:https://ti.to/kingdomworks/engage-leaders-lunch-2026
URL;VALUE=URI:https://ti.to/kingdomworks/engage-leaders-lunch-2026
END:VEVENT
END:VCALENDAR
