BEGIN:VCALENDAR
VERSION:2.0
PRODID:icalendar-ruby
CALSCALE:GREGORIAN
BEGIN:VTIMEZONE
TZID:America/New_York
BEGIN:DAYLIGHT
DTSTART:20200308T030000
TZOFFSETFROM:-0500
TZOFFSETTO:-0400
RRULE:FREQ=YEARLY;BYDAY=2SU;BYMONTH=3
TZNAME:EDT
END:DAYLIGHT
BEGIN:STANDARD
DTSTART:20201101T010000
TZOFFSETFROM:-0400
TZOFFSETTO:-0500
RRULE:FREQ=YEARLY;BYDAY=1SU;BYMONTH=11
TZNAME:EST
END:STANDARD
END:VTIMEZONE
BEGIN:VEVENT
DTSTAMP:20260420T173012Z
UID:FxgdfQ
DTSTART;VALUE=DATE:20200627
DTEND;VALUE=DATE:20200628
CLASS:PUBLIC
CREATED:20200605T104027
DESCRIPTION: Hey White Folx...this is your chance to learn the basics of be
 ing an Antiracist\, while minimizing the potential for harm your whiteness
  has on others\, as you learn. \n\n Join Kim Crayton on June 27th\, for an
  event designed SPECIFICALLY for white folx who are struggling with where 
 and how to start their antiracist journey. \n\n Event Pre-Work: This work 
 requires an understanding of how we got here. So please listen to the "See
 ing White" podcast series by Scene On Radio and be prepared to discuss. Tr
 anscripts are available here. \n\n Event times \n\n 8am to 11am — San Fr
 ancisco\, USA \n\n 11am to 2pm — New York\, USA \n\n 4pm to 7pm — Lond
 on\, UK \n\n 5pm to 8pm — Berlin\, Germany \n\n 11pm to 2am — Hong Kon
 g \n\n 1am to 3am — Sydney\, Australia \n\n Note: all registered attende
 es will gain access to the recording after the event. \n
LAST-MODIFIED:20230929T202626
LOCATION:Online
ORGANIZER:mailto:kim@kimcrayton.com
SUMMARY:Introduction to Being an Antiracist
URL;VALUE=URI:https://ti.to/kim.crayton.llc/introduction-to-being-an-antira
 cist
URL;VALUE=URI:https://ti.to/kim.crayton.llc/introduction-to-being-an-antira
 cist
END:VEVENT
END:VCALENDAR
