BEGIN:VCALENDAR
VERSION:2.0
PRODID:icalendar-ruby
CALSCALE:GREGORIAN
BEGIN:VEVENT
DTSTAMP:20260424T163107Z
UID:dkYprw
DTSTART;VALUE=DATE:20201031
DTEND;VALUE=DATE:20201101
CLASS:PUBLIC
CREATED:20200626T094230
DESCRIPTION: Hey White Folx...this is your chance to learn the basics of be
 ing an Antiracist\, while minimizing the potential for harm your whiteness
  has on others\, as you learn. \n\n Join Kim Crayton on October 31st\, for
  an event designed SPECIFICALLY for white folx who are struggling with whe
 re and how to start their antiracist journey. \n\n \n\n Event pre-work \n\
 n This work requires an understanding of how we got here. \n\n Please read
  White Rage: The Unspoken Truth of Our Racial Divide Amazon \n\n \n\n Reco
 mmended prerequisite \n\n Introduction to Being an Antiracist (3 hour live
 stream recording) | Purchase for $30 \n\n Being an Antiracist at Home (Aug
 ust 29th 2020) | Purchase for $30 \n\n \n\n Event times \n\n 8am to 11am 
 — San Francisco\, USA \n\n 11am to 2pm — New York\, USA \n\n 3pm to 6p
 m — London\, UK \n\n 4pm to 7pm — Berlin\, Germany \n\n 11pm to 2am 
 — Hong Kong \n\n 2am to 5am — Sydney\, Australia \n\n Note: all regist
 ered attendees will gain access to the recording after the event. \n
LAST-MODIFIED:20231212T102856
LOCATION:Online
ORGANIZER:mailto:hey@vito.community
SUMMARY:Being an Antiracist at Work
URL;VALUE=URI:https://ti.to/kim.crayton.llc/being-an-antiracist-at-work
URL;VALUE=URI:https://ti.to/kim.crayton.llc/being-an-antiracist-at-work
END:VEVENT
END:VCALENDAR
