BEGIN:VCALENDAR
VERSION:2.0
PRODID:icalendar-ruby
CALSCALE:GREGORIAN
BEGIN:VEVENT
DTSTAMP:20260421T083700Z
UID:87Z07g
DTSTART;VALUE=DATE:20150627
DTEND;VALUE=DATE:20150628
CLASS:PUBLIC
CREATED:20150426T155807
DESCRIPTION: Saturday @ 1 PM \n\n Parking is available.\nSan Antonio Caltra
 in is the closest public transit. \n
LAST-MODIFIED:20160226T173919
LOCATION:Mountain View\, California\, USA
ORGANIZER:mailto:haata@kiibohd.com
SUMMARY:Kiibohd 14 - June 27 2015
URL;VALUE=URI:https://ti.to/kiibohd/kiibohd-14-june-2015
URL;VALUE=URI:https://ti.to/kiibohd/kiibohd-14-june-2015
END:VEVENT
END:VCALENDAR
