BEGIN:VCALENDAR
VERSION:2.0
PRODID:icalendar-ruby
CALSCALE:GREGORIAN
BEGIN:VTIMEZONE
TZID:America/New_York
BEGIN:DAYLIGHT
DTSTART:20210314T030000
TZOFFSETFROM:-0500
TZOFFSETTO:-0400
RRULE:FREQ=YEARLY;BYDAY=2SU;BYMONTH=3
TZNAME:EDT
END:DAYLIGHT
BEGIN:STANDARD
DTSTART:20201101T010000
TZOFFSETFROM:-0400
TZOFFSETTO:-0500
RRULE:FREQ=YEARLY;BYDAY=1SU;BYMONTH=11
TZNAME:EST
END:STANDARD
END:VTIMEZONE
BEGIN:VEVENT
DTSTAMP:20260420T172450Z
UID:Tq2PiA
DTSTART;VALUE=DATE:20210218
DTEND;VALUE=DATE:20210219
CLASS:PUBLIC
CREATED:20201208T100242
DESCRIPTION: THE NATION’S PREMIER LEGAL EVENT SUPPORTING GENDER DIVERSITY
  \n\n WHAT YOU’LL LEARN AT THIS ESSENTIAL VIRTUAL EVENT \n\n \n Critical
  insights to drive future positive change and promote true equality past t
 he pandemic \n Practical strategies for boundary setting at the home and o
 ffice \n Tactics and tips to ensure one stays visible and recognized in th
 e remote legal landscape \n How to achieve higher retention rates and incr
 ease advancement opportunities \n The legal profession’s role to drive s
 ystemic change and progress for women in law \n \n\n *For sponsorship\, pl
 ease contact: dane.taylor@keymedia.com \n
LAST-MODIFIED:20231212T052856
LOCATION:
ORGANIZER:mailto:chris.davis@keymedia.com
SUMMARY:Women in Law Canada
URL;VALUE=URI:https://ti.to/key-media-ca/women-in-law-canada
URL;VALUE=URI:https://ti.to/key-media-ca/women-in-law-canada
END:VEVENT
END:VCALENDAR
