BEGIN:VCALENDAR
VERSION:2.0
PRODID:icalendar-ruby
CALSCALE:GREGORIAN
BEGIN:VTIMEZONE
TZID:America/New_York
BEGIN:DAYLIGHT
DTSTART:20220313T030000
TZOFFSETFROM:-0500
TZOFFSETTO:-0400
RRULE:FREQ=YEARLY;BYDAY=2SU;BYMONTH=3
TZNAME:EDT
END:DAYLIGHT
BEGIN:STANDARD
DTSTART:20221106T010000
TZOFFSETFROM:-0400
TZOFFSETTO:-0500
RRULE:FREQ=YEARLY;BYDAY=1SU;BYMONTH=11
TZNAME:EST
END:STANDARD
END:VTIMEZONE
BEGIN:VEVENT
DTSTAMP:20260421T103721Z
UID:k5lu6Q
DTSTART;VALUE=DATE:20220615
DTEND;VALUE=DATE:20220616
CLASS:PUBLIC
CREATED:20220324T151836
DESCRIPTION: The LegalTech Summit Canada is a future-focused event dedicate
 d to providing legal professionals with modern solutions to their most cha
 llenging\, tedious problems. This event is a unique opportunity to explore
  the latest technologies\, product innovations\, and digital strategies wi
 th senior lawyers and legal tech authorities alike. \n\n Featuring session
  on automation and artificial intelligence\, digital marketing\, improving
  the client experience in a remote or hybrid setting\, and a one-of-a-kind
  presentation on the Law Society of Alberta’s Innovation Sandbox Initiat
 ive\, this event is covering everything law firms and in-house departments
  need to stay on top of the latest trends\, drive efficiency in their orga
 nizations\, and thrive in an evolving legal industry. \n\n Now is the time
  to look towards the future and become an early adopter of the technology 
 that is changing the field. Make sure you’re there on June 15 to be part
  of the conversation. \n\n *For sponsorship\, please contact: dane.taylor@
 keymedia.com \n\n All times are in ET. \n
LAST-MODIFIED:20221207T113643
LOCATION:
ORGANIZER:mailto:patricia.mandac@keymedia.com
SUMMARY:LegalTech Summit Canada
URL;VALUE=URI:https://ti.to/key-media-ca/legal-tech-summit-canada-2022
URL;VALUE=URI:https://ti.to/key-media-ca/legal-tech-summit-canada-2022
END:VEVENT
END:VCALENDAR
