BEGIN:VCALENDAR
VERSION:2.0
PRODID:icalendar-ruby
CALSCALE:GREGORIAN
BEGIN:VEVENT
DTSTAMP:20260423T182926Z
UID:p6QHcA
DTSTART:20260512T163000
DTEND:20260512T200000
CLASS:PUBLIC
CREATED:20260408T184329
DESCRIPTION: Join us at KEXP when Florence The Machine and Mannequin Pussy 
 come to town to play at Climate Pledge Arena on Tuesday\, May 12th. KEXP i
 s your pre-show party destination whether you have a ticket or not! \n\n W
 ith drinks and a live set from DJ Lisa LeClair\, KEXP is the perfect spot 
 to meet up with your crew before the show - or just some Tuesday night fun
 . Proceeds benefit KEXP. This event is free and 21+. Use your BECU x KEXP 
 debit card for a discount on drinks!  \n
LAST-MODIFIED:20260422T172702
LOCATION:KEXP Gathering Space
ORGANIZER:mailto:rsvp@kexp.org
SUMMARY:KEXP Day Parties - Florence & The Machine/Mannequin Pussy
URL;VALUE=URI:https://ti.to/kexp/kexp-day-parties-for-ftm
URL;VALUE=URI:https://ti.to/kexp/kexp-day-parties-for-ftm
END:VEVENT
END:VCALENDAR
