BEGIN:VCALENDAR
VERSION:2.0
PRODID:icalendar-ruby
CALSCALE:GREGORIAN
BEGIN:VEVENT
DTSTAMP:20260419T193524Z
UID:pEB2rw
DTSTART;VALUE=DATE:20190417
DTEND;VALUE=DATE:20190418
CLASS:PUBLIC
CREATED:20190319T222358
DESCRIPTION: React’s new hooks feature is amazing! It provides simpler wa
 ys to share code and is altogether much simpler than anything we’ve had 
 before. These hooks allow you to manage state\, context\, refs\, and run s
 ide-effect code in a way that’s simple and maintainable in the long-term
 . \n\n In this hands-on workshop\, we’ll dive into the built-in hooks yo
 u’ll need on a regular basis with simple exercises that allow you to foc
 us on learning the new APIs. When we’re all done\, you’ll be equipped 
 with everything you need to know to use hooks in your application (and you
 ’ll be eager to start!). \n\n Topics: \n\n \n Manage state with useState
  and useReducer (and learn when to use each) \n Interact with the DOM and 
 simulate class instance variables with useRef and useEffect \n Access cont
 ext values with useContext \n Create custom hooks to organize and reuse co
 mponent logic \n \n\n Pre-requisites: \n\n \n ReactJS Fundamentals \n \n
LAST-MODIFIED:20190418T000803
LOCATION:Zoom
ORGANIZER:mailto:support@testingjavascript.com
SUMMARY:Learn React Hooks
URL;VALUE=URI:https://ti.to/kent-c-dodds/learn-react-hooks-with-kent-2019-0
 4-17
URL;VALUE=URI:https://ti.to/kent-c-dodds/learn-react-hooks-with-kent-2019-0
 4-17
END:VEVENT
END:VCALENDAR
