BEGIN:VCALENDAR
VERSION:2.0
PRODID:icalendar-ruby
CALSCALE:GREGORIAN
BEGIN:VEVENT
DTSTAMP:20260420T084239Z
UID:KnpUTA
DTSTART;VALUE=DATE:20200730
DTEND;VALUE=DATE:20200731
CLASS:PUBLIC
CREATED:20200714T114345
LAST-MODIFIED:20231212T102857
LOCATION:1111 Budapest\, Bartók Béla út 10-12.
ORGANIZER:mailto:kozossegikertek@kek.org.hu
SUMMARY:ZERO WASTE SOROZAT - Hulladékcsökkentés lépésről lépésre
URL;VALUE=URI:https://ti.to/kek/zero-waste-sorozat-hulladekcsokkentes-lepes
 rol-lepesre
URL;VALUE=URI:https://ti.to/kek/zero-waste-sorozat-hulladekcsokkentes-lepes
 rol-lepesre
END:VEVENT
END:VCALENDAR
