BEGIN:VCALENDAR
VERSION:2.0
PRODID:icalendar-ruby
CALSCALE:GREGORIAN
BEGIN:VEVENT
DTSTAMP:20260420T163057Z
UID:ednT2Q
DTSTART;VALUE=DATE:20200226
DTEND;VALUE=DATE:20200227
CLASS:PUBLIC
CREATED:20200121T155940
DESCRIPTION: Pörgős\, feszes\, informatív előadások és jó hangulat: 
 a Pecha Kucha Night Budapest és a The Budapest New Technology Meetup Grou
 p közös eseménye 2020. február 26-án izgalmas projekteket mutat be az
  építész-tájépítész-design és az IT vonalról! Meghívott szakembe
 reinket az előző évekhez hasonlóan arra kérjük\, hogy a különböz
 ő témafelvetések mellett mutassák be saját projektjeiket\, és reagá
 ljanak az előadópár gondolataira.\nMiről is lesz szó? Például a jö
 vőről vagy az ökologikus gondolkodásról\, amikről mind-mind releván
 san tud nyilatkozni az építész és informatikus közeg. De az adatok sz
 erepének növekedése\, az információfüggőség vagy a fikció és tec
 hnológia viszonya kiemelten fontos nemcsak az IT világában\, hanem a te
 lepülések fejlesztésében és építésében is. \n\n Vedd meg a jegyed
  időben\, hogy ne maradj le! \n
LAST-MODIFIED:20210310T191324
LOCATION:Budapest\, TRIP hajó (Szilágyi Dezső tér 2-es móló)
ORGANIZER:mailto:pechakucha@kek.org.hu
SUMMARY:NewTech Meetup Szülinap + Pecha Kucha Night Budapest Vol.66.
URL;VALUE=URI:https://ti.to/kek/newtech-meetup-pecha-kucha-night-budapest-v
 ol-66
URL;VALUE=URI:https://ti.to/kek/newtech-meetup-pecha-kucha-night-budapest-v
 ol-66
END:VEVENT
END:VCALENDAR
