BEGIN:VCALENDAR
VERSION:2.0
PRODID:icalendar-ruby
CALSCALE:GREGORIAN
BEGIN:VEVENT
DTSTAMP:20260422T085858Z
UID:qYA5ww
DTSTART;VALUE=DATE:20200722
DTEND;VALUE=DATE:20200723
CLASS:PUBLIC
CREATED:20200715T145528
LAST-MODIFIED:20231212T102857
LOCATION:1111 Budapest\, Bartók Béla út 10-12.
ORGANIZER:mailto:kozossegikertek@kek.org.hu
SUMMARY:Mindent az ehető gyomnövényekről
URL;VALUE=URI:https://ti.to/kek/mindent-az-eheto-gyomnovenyekrol
URL;VALUE=URI:https://ti.to/kek/mindent-az-eheto-gyomnovenyekrol
END:VEVENT
END:VCALENDAR
