BEGIN:VCALENDAR
VERSION:2.0
PRODID:icalendar-ruby
CALSCALE:GREGORIAN
BEGIN:VTIMEZONE
TZID:Europe/Dublin
BEGIN:DAYLIGHT
DTSTART:20261025T010000
TZOFFSETFROM:+0100
TZOFFSETTO:+0000
RRULE:FREQ=YEARLY;BYDAY=-1SU;BYMONTH=10
TZNAME:GMT
END:DAYLIGHT
BEGIN:STANDARD
DTSTART:20260329T020000
TZOFFSETFROM:+0000
TZOFFSETTO:+0100
RRULE:FREQ=YEARLY;BYDAY=-1SU;BYMONTH=3
TZNAME:IST
END:STANDARD
END:VTIMEZONE
BEGIN:VEVENT
DTSTAMP:20260420T100746Z
UID:tr72lg
DTSTART;TZID=Europe/Dublin:20260423T193000
DTEND;TZID=Europe/Dublin:20260423T223000
CLASS:PUBLIC
CREATED:20260402T140445
DESCRIPTION: The by-election to fill Pascal Donohoe's Dáil seat is fast ap
 proaching — and the left has a real opportunity to win it. \n\n Join us 
 for a special Keep Left event bringing together left and progressive candi
 dates running in the Dublin Central by-election for an open conversation a
 bout the issues that matter most to the people of this community. \n\n Hou
 sing. Homelessness. The cost of living. Stretched public services . Dublin
  Central is one of the most diverse and vibrant constituencies in the coun
 try — but it's also one where working people are under the most pressure
 . The next TD needs to be someone who will stand up and fight for them. \n
 \n Catherine Connolly's presidential campaign proved that when the left un
 ites\, it wins. That same energy — vote left\, transfer left — can del
 iver in Dublin Central. Come hear from the candidates\, put your questions
  to them\, and let's have an honest discussion about how progressives can 
 work together to take this seat. \n\n This isn't about any one party. It's
  about the movement we're building together. \n\n All welcome. Free admiss
 ion. \n\n Keep Left is a grassroots community of independents and left par
 ty members united by the vision of a new republic for all who call this is
 land home. \n
LAST-MODIFIED:20260414T191545
LOCATION:Dublin\, Ireland
ORGANIZER:mailto:info@keepleft.ie
SUMMARY:Keep Left: Ceol agus Caint for Change
URL;VALUE=URI:https://ti.to/keepleft/dublin-central-by-election-discussion
URL;VALUE=URI:https://ti.to/keepleft/dublin-central-by-election-discussion
END:VEVENT
END:VCALENDAR
