BEGIN:VCALENDAR
VERSION:2.0
PRODID:icalendar-ruby
CALSCALE:GREGORIAN
BEGIN:VEVENT
DTSTAMP:20260421T202916Z
UID:KocWNQ
DTSTART;VALUE=DATE:20170606
DTEND;VALUE=DATE:20170607
CLASS:PUBLIC
CREATED:20170515T143131
DESCRIPTION: Mini-symposium “All I know is what’s on the Internet”  \
 n\n Het bewaren van digitale bronnen uit het post-truth tijdperk voor de t
 oekomst \n\n Datum:      Dinsdag 6 juni 2017 \n\n Tijd:       15:00 - 17:3
 0  uur  \n\n Locatie:        Koninklijke Bibliotheek\, Prins Willem-Alexan
 derhof 5\, Den Haag \n\n Aanmelding: Aan deelname zijn geen kosten verbond
 en\, maar aanmelding via Ti.to is\nnoodzakelijk. \n\n “All I know is wha
 t’s on the Internet”\, zei president Donald Trump in een interview. Ir
 onisch genoeg sprak hij daarmee niet de waarheid. We leven in een complexe
  tijd die ook in de toekomst niet gemakkelijk te doorgronden zal zijn. His
 torici banen zich een weg door het informatielandschap en alle historici n
 a hen zullen dat ook gaan doen. Wat bewaren we als onderzoeksmateriaal voo
 r hen? Hoe bepalen we wat post-waarheid is? Tijdens dit mini-symposium spr
 eken vier waarheidsprominenten over het begrip post-truth\, de toekomst va
 n de geschiedenis van nepnieuws\, digitale bronnen van ons post-truth tijd
 perk en selectie en behoud van dergelijke bronnen.  \n\n Voor de Koninklij
 ke Bibliotheek zoeken we een stagiair die vanaf september de webcollectie 
 kan helpen opbouwen en de voorlopige selectie van websites kritisch kan be
 kijken\, analyseren\, beschrijven en archiveren. De stage is bij uitstek d
 e manier om kennis te maken met gearchiveerde websites als historische bro
 n\; het proces van webarchivering en actuele fenomenen in de digitale cult
 uur van Nederland. De collectiespecialisten en onderzoekers van de KB nodi
 gen alle belangstellenden uit. Studenten kunnen tijdens het mini-symposium
  kennis komen maken en hun nieuwsgierigheid en belangstelling voor de stag
 e kenbaar maken. \n\n - \n\n De sprekers: \n\n Adriaan van Veldhuizen (Uni
 versiteit Leiden) \nDe familie Post. Over post-truth en andere postbegripp
 en \n\n Peter Burger (Universiteit Leiden) \nDe toekomst van de geschieden
 is van nepnieuws \n\n Jelle van Buuren (Universiteit Leiden)\nDe digitale 
 Bermudadriehoek \n\n Kees Teszelszky (Koninklijke Bibliotheek)\nDe digital
 e bronnen van ons post-truth tijdperk \n\n Aansluitend vindt een bescheide
 n borrel plaats. \n
LAST-MODIFIED:20170606T074321
LOCATION:Koninklijke Bibliotheek\, Den Haag\, The Netherlands
ORGANIZER:mailto:noreply-calendar@tito.io
SUMMARY:Mini-symposium “All I know is what’s on the Internet”   Het b
 ewaren van digitale bronnen uit het post-truth tijdperk voor de toekomst
URL;VALUE=URI:https://ti.to/kb_nl/mini-symposium-all-i-know-is-from-the-int
 ernet-hoe-de-digitale-bronnen-van-ons-post-truth-tijdperk-te-bewaren-voor-
 de-toekomst
URL;VALUE=URI:https://ti.to/kb_nl/mini-symposium-all-i-know-is-from-the-int
 ernet-hoe-de-digitale-bronnen-van-ons-post-truth-tijdperk-te-bewaren-voor-
 de-toekomst
END:VEVENT
END:VCALENDAR
