BEGIN:VCALENDAR
VERSION:2.0
PRODID:icalendar-ruby
CALSCALE:GREGORIAN
BEGIN:VTIMEZONE
TZID:Asia/Tokyo
BEGIN:STANDARD
DTSTART:19510909T000000
TZOFFSETFROM:+1000
TZOFFSETTO:+0900
TZNAME:JST
END:STANDARD
END:VTIMEZONE
BEGIN:VEVENT
DTSTAMP:20260425T213248Z
UID:LygLcA
DTSTART;TZID=Asia/Tokyo:20250628T100000
DTEND;TZID=Asia/Tokyo:20250628T180000
CLASS:PUBLIC
CREATED:20250203T190646
DESCRIPTION: 関西Ruby会議は、関西で定期的に開催されてい
 る、プログラミング言語Rubyに関する技術カンファレン
 スです。関西圏を中心にRubyistが集まり、Rubyにまつわる
 技術の講演を聞いたり、Rubyist同士が知見を共有したり
 する場として開催しています。また知的好奇心を刺激
 し、新たなつながりを生む場となることを目指してい
 ます。 \n\n  \n関西Ruby会議は、Rubyist同士が関西に集い、
 交流を深めるとともに、関西の地域Rubyコミュニティと
 のつながりを築く場となるよう準備を進めています。
 皆さまのご参加を心よりお待ちしております！ \n\n  \n
 詳しくは 公式サイト をご覧ください。\n懇親会の詳細
 は後日公開予定です。公式X（旧Twitter） をフォローし
 て続報をお待ちください。 \n\n \n\n KansaiRubyKaigi is a techni
 cal conference on the Ruby programming language\, held regularly in the Ka
 nsai region. Rubyists\, primarily from Kansai\, gather to attend talks on 
 Ruby-related technologies and share their knowledge with fellow developers
 . The conference also aims to spark intellectual curiosity and foster new 
 connections. \n\n KansaiRubyKaigi provides a place for Rubyists to come to
 gether in Kansai\, deepen their interactions\, and strengthen ties with th
 e local Ruby community. We look forward to your participation! \n\n For mo
 re details\, please visit the official website.\nInformation about the net
 working event will be announced later. Follow our official X (formerly Twi
 tter) for updates. \n
LAST-MODIFIED:20260213T204202
LOCATION:130 Hashishitacho\, Nakagyo Ward\, Kyoto
ORGANIZER:mailto:kyobashirb@gmail.com
SUMMARY:関西Ruby会議08
URL;VALUE=URI:https://ti.to/kansairubykaigi/08
URL;VALUE=URI:https://ti.to/kansairubykaigi/08
END:VEVENT
END:VCALENDAR
