BEGIN:VCALENDAR
VERSION:2.0
PRODID:icalendar-ruby
CALSCALE:GREGORIAN
BEGIN:VEVENT
DTSTAMP:20260425T180734Z
UID:rODnog
DTSTART;VALUE=DATE:20150625
DTEND;VALUE=DATE:20150626
CLASS:PUBLIC
CREATED:20150611T151934
DESCRIPTION: "Successfully Hacking in Your Spare Time" and "Scalable and Ma
 intainable React" \n
LAST-MODIFIED:20231212T102856
LOCATION:Google\, Venice 340 Main St\, Venice\, CA 90291
ORGANIZER:mailto:jacob@js.la
SUMMARY:June 2015
URL;VALUE=URI:https://ti.to/jsla/june-2015
URL;VALUE=URI:https://ti.to/jsla/june-2015
END:VEVENT
END:VCALENDAR
