BEGIN:VCALENDAR
VERSION:2.0
PRODID:icalendar-ruby
CALSCALE:GREGORIAN
BEGIN:VTIMEZONE
TZID:Europe/Budapest
BEGIN:DAYLIGHT
DTSTART:20240331T030000
TZOFFSETFROM:+0100
TZOFFSETTO:+0200
RRULE:FREQ=YEARLY;BYDAY=-1SU;BYMONTH=3
TZNAME:CEST
END:DAYLIGHT
BEGIN:STANDARD
DTSTART:20241027T020000
TZOFFSETFROM:+0200
TZOFFSETTO:+0100
RRULE:FREQ=YEARLY;BYDAY=-1SU;BYMONTH=10
TZNAME:CET
END:STANDARD
END:VTIMEZONE
BEGIN:VEVENT
DTSTAMP:20260420T162857Z
UID:dNRj2w
DTSTART;VALUE=DATE:20240627
DTEND;VALUE=DATE:20240629
CLASS:PUBLIC
CREATED:20231110T123301
DESCRIPTION: JSConf Budapest is a 2-day\, non-profit\, for-the-community by
 -the-community conference about JavaScript in Budapest\, Hungary. \n\n Con
 ference days included: \n\n \n June 26th - workshop day\, where you may ac
 cess one workshop for free \n June 27-28th - conference days at the venue 
 \n \n
LAST-MODIFIED:20240726T133451
LOCATION:Budapest\, Hungary
ORGANIZER:mailto:team@jsconfbp.com
SUMMARY:JSConf Budapest 2024
URL;VALUE=URI:https://ti.to/jsconf-bp/jsconf-budapest-2024
URL;VALUE=URI:https://ti.to/jsconf-bp/jsconf-budapest-2024
END:VEVENT
END:VCALENDAR
