BEGIN:VCALENDAR
VERSION:2.0
PRODID:icalendar-ruby
CALSCALE:GREGORIAN
BEGIN:VTIMEZONE
TZID:Europe/Budapest
BEGIN:DAYLIGHT
DTSTART:20160327T030000
TZOFFSETFROM:+0100
TZOFFSETTO:+0200
RRULE:FREQ=YEARLY;BYDAY=-1SU;BYMONTH=3
TZNAME:CEST
END:DAYLIGHT
BEGIN:STANDARD
DTSTART:20161030T020000
TZOFFSETFROM:+0200
TZOFFSETTO:+0100
RRULE:FREQ=YEARLY;BYDAY=-1SU;BYMONTH=10
TZNAME:CET
END:STANDARD
END:VTIMEZONE
BEGIN:VEVENT
DTSTAMP:20260424T135450Z
UID:AGCSBQ
DTSTART;VALUE=DATE:20160511
DTEND;VALUE=DATE:20160512
CLASS:PUBLIC
CREATED:20151118T125619
DESCRIPTION: CSSconf Budapest is a community conference dedicated to the de
 signers and developers who love CSS. For the community\, from the communit
 y. Based in Budapest\, Hungary. \n\n cssconfbp.rocks \n
LAST-MODIFIED:20231111T151759
LOCATION:Budapest\, Hungary
ORGANIZER:mailto:organizers@cssconfbp.rocks
SUMMARY:CSSConf Budapest 2016
URL;VALUE=URI:https://ti.to/jsconf-bp/cssconf-budapest-2016
URL;VALUE=URI:https://ti.to/jsconf-bp/cssconf-budapest-2016
END:VEVENT
END:VCALENDAR
