BEGIN:VCALENDAR
VERSION:2.0
PRODID:icalendar-ruby
CALSCALE:GREGORIAN
BEGIN:VEVENT
DTSTAMP:20260419T215001Z
UID:1i0l8w
DTSTART;VALUE=DATE:20200530
DTEND;VALUE=DATE:20200531
CLASS:PUBLIC
CREATED:20200511T105332
DESCRIPTION: ⏱Time zone is in CEST. Check your timezone.⏱ \n\n 👋Josh
 ua here! Since February 2020 a growing amount of friends and I have been w
 eaving ourselves to support each other more intimately and frequently in d
 oing emotionally and financially fulfilling work. This is a moment for us 
 to open the curtains and show what's happening – out loud! \n\n Nati Lom
 bardo\, Richard D. Bartlett\, my partner Beatriz Fonseca\, and a few folks
  from our new community will be present to delve briefly into various lens
 es of our philosophies and practices (including Microsolidarity). We'll gi
 ve most attention to hosting YOU in a participatory experience of what we'
 ve been doing. \n\n This will be a participatory presentation to dig into 
 the process and practices of creating a new mutual aid community – begin
 ning in Maastricht\, Netherlands. \n\n 👇scroll down for some juicy deta
 ils👇 \n
LAST-MODIFIED:20220127T073626
LOCATION:Zoom
ORGANIZER:mailto:joshemglass@gmail.com
SUMMARY:Making Microsolidarity in Maastricht
URL;VALUE=URI:https://ti.to/joshua-glass/making-microsolidarity-in-maastric
 ht
URL;VALUE=URI:https://ti.to/joshua-glass/making-microsolidarity-in-maastric
 ht
END:VEVENT
BEGIN:VEVENT
DTSTAMP:20260419T215001Z
UID:1i0l8w1032044
DTSTART:20200530T180000
DTEND:20200530T193000
CLASS:PUBLIC
CREATED:20200511T120031
LAST-MODIFIED:20200511T120031
LOCATION:Zoom\, https://zoom.us/
ORGANIZER:mailto:joshemglass@gmail.com
SUMMARY:[Making Microsolidarity in Maastricht] Making Microsolidarity in Ma
 astricht
URL;VALUE=URI:https://ti.to/joshua-glass/making-microsolidarity-in-maastric
 ht
URL;VALUE=URI:https://ti.to/joshua-glass/making-microsolidarity-in-maastric
 ht
END:VEVENT
END:VCALENDAR
