BEGIN:VCALENDAR
VERSION:2.0
PRODID:icalendar-ruby
CALSCALE:GREGORIAN
BEGIN:VTIMEZONE
TZID:Europe/London
BEGIN:DAYLIGHT
DTSTART:20250330T020000
TZOFFSETFROM:+0000
TZOFFSETTO:+0100
RRULE:FREQ=YEARLY;BYDAY=-1SU;BYMONTH=3
TZNAME:BST
END:DAYLIGHT
BEGIN:STANDARD
DTSTART:20241027T010000
TZOFFSETFROM:+0100
TZOFFSETTO:+0000
RRULE:FREQ=YEARLY;BYDAY=-1SU;BYMONTH=10
TZNAME:GMT
END:STANDARD
END:VTIMEZONE
BEGIN:VEVENT
DTSTAMP:20260421T121154Z
UID:FspMug
DTSTART;TZID=Europe/London:20241121T133000
DTEND;TZID=Europe/London:20250206T163000
CLASS:PUBLIC
CREATED:20240926T103659
DESCRIPTION: Managing Difficult Conversations/Building Good Staff Relations
  \n\n This is an accredited course for school leaders delivered by\nan ICT
 U tutor over 6 weeks\, via a combination of zoom and face-to-face\,\nprovi
 ding practical tips on how to build good staff relations and deal with\ndi
 fficult conversations/situations. \n\n The topics covered in the course in
 clude:\n• Effective communication\n• Managing difficult situations\n
 • Handling grievances and disciplinaries\n• Mediation/LRA \n\n There a
 re 6 x 3 hour sessions\, 3 before Christmas and 3 after:\nThe first sessio
 n will be in person in INTO Northern Office and the tutor will agree with 
 the participants at that session the venues (online or in person) for the 
 rest of the course. \n\n Week 1 – Thursday 21st November 2024 – 1.30 -
  4.30pm in INTO\nNorthern Office \n\n Week 2 – Thursday 28th November 20
 24 – 1.30 - 4.30pm on ZOOM\n(TBC) \n\n Week 3 – Thursday 5th December 
 2024 – 1.30 - 4.30pm on ZOOM\n(TBC) \n\n Week 4 – Thursday 23rd Januar
 y 2025 – 1.30 - 4.30pm in INTO\nNorthern office (TBC) \n\n Week 5 – Th
 ursday 30th January 2025 – 1.30 - 4.30pm on ZOOM (TBC) \n\n Week 6 – T
 hursday 6th February 2025 – 1.30 - 4.30pm in INTO\nNorthern Office (TBC)
  \n\n Please note this is a 6-week course and there are a maximum\nnumber 
 of 20 places available so register early to avoid disappointment. \n\n To 
 register please enter your details below by completing BOTH steps of the 2
 -step registration process: \n
LAST-MODIFIED:20251015T140234
LOCATION:INTO Northern Office and Online
ORGANIZER:mailto:events@utu.edu
SUMMARY:Joint Union Course for School leaders 21st Nov - 6th February 2025 
 (6 sessions)
URL;VALUE=URI:https://ti.to/jointunion/course-for-school-leaders-nov21
URL;VALUE=URI:https://ti.to/jointunion/course-for-school-leaders-nov21
END:VEVENT
END:VCALENDAR
