BEGIN:VCALENDAR
VERSION:2.0
PRODID:icalendar-ruby
CALSCALE:GREGORIAN
BEGIN:VEVENT
DTSTAMP:20260424T000603Z
UID:xpNKJw
DTSTART;VALUE=DATE:20160613
DTEND;VALUE=DATE:20160614
CLASS:PUBLIC
CREATED:20160516T203652
DESCRIPTION: Join Jim Dalrymple and iMore for an incredible night of music 
 from The Department of Rock and headliners\, Airplane Mode. \n\n You must 
 bring your RSVP to the venue in order to get entry into the party. You mus
 t be 21 because we will be serving free beer and wine throughout the night
 . \n\n Please arrive early. Having an RSVP does not guarantee entry into t
 he event. \n\n Many thanks to our sponsors\, Pixelmator\, MacPaw\, Hover\,
  and Microsoft\, for making this party a reality! \n
LAST-MODIFIED:20160614T000456
LOCATION:444 Jessie Street\, San Francisco\, California
ORGANIZER:mailto:jdalrymple@loopinsight.com
SUMMARY:Beard Bash 2016
URL;VALUE=URI:https://ti.to/jim-dalrymple/beard-bash-2016
URL;VALUE=URI:https://ti.to/jim-dalrymple/beard-bash-2016
END:VEVENT
BEGIN:VEVENT
DTSTAMP:20260424T000603Z
UID:xpNKJw1007471
DTSTART:20160613T200000
DTEND:20160613T230000
CLASS:PUBLIC
CREATED:20160518T163839
DESCRIPTION:Join Jim Dalrymple and iMore for an incredible night of music f
 rom The Department of Rock and Airplane Mode.\n\nYou must bring your RSVP 
 to the venue in order to get entry into the party. You must be 21 because 
 we will be serving free beer and wine throughout the night.\n\nPlease arri
 ve early. Having an RSVP does not guarantee entry into the event.
LAST-MODIFIED:20171122T090103
LOCATION:The Mezzanine\, 444 Jessie Street\, San Francisco\, California
ORGANIZER:mailto:jdalrymple@loopinsight.com
SUMMARY:[Beard Bash 2016] Beard Bash 2016
URL;VALUE=URI:https://ti.to/jim-dalrymple/beard-bash-2016
X-ALT-DESC;FMTTYPE=text/html:Join Jim Dalrymple and iMore for an incredible
  night of music from The Department of Rock and Airplane Mode.\n\nYou must
  bring your RSVP to the venue in order to get entry into the party. You mu
 st be 21 because we will be serving free beer and wine throughout the nigh
 t.\n\nPlease arrive early. Having an RSVP does not guarantee entry into th
 e event.
URL;VALUE=URI:https://ti.to/jim-dalrymple/beard-bash-2016
END:VEVENT
END:VCALENDAR
