BEGIN:VCALENDAR
VERSION:2.0
PRODID:icalendar-ruby
CALSCALE:GREGORIAN
BEGIN:VEVENT
DTSTAMP:20260424T124628Z
UID:ajF9hQ
DTSTART;VALUE=DATE:20170309
DTEND;VALUE=DATE:20170311
CLASS:PUBLIC
CREATED:20170102T024237
LAST-MODIFIED:20210425T041727
LOCATION:Wellington\, New Zealand
ORGANIZER:mailto:nzjscon@gmail.com
SUMMARY:nz.js(con)\; 2017
URL;VALUE=URI:https://ti.to/javascript-nz/nz-js-con-2017
URL;VALUE=URI:https://ti.to/javascript-nz/nz-js-con-2017
END:VEVENT
END:VCALENDAR
