BEGIN:VCALENDAR
VERSION:2.0
PRODID:icalendar-ruby
CALSCALE:GREGORIAN
BEGIN:VEVENT
DTSTAMP:20260426T005851Z
UID:7l0ZLg
DTSTART;VALUE=DATE:20240314
DTEND;VALUE=DATE:20240315
CLASS:PUBLIC
CREATED:20240213T192847
DESCRIPTION: About the talk...\n  Strategic UX Research is how organization
 s connect their long-term direction and strategy to customers’ and users
 ’ deepest needs. It’s been around for a while but only recently has ca
 ught the attention of top executives. \n\n Orange County User Experience i
 s very excited to welcome back Jared Spool for this virtual event. \n\n Ja
 red M. Spool is a Maker of Awesomeness at Center Centre. Center Centre pro
 vides UX professional development programs to coach today’s emerging and
  established UX leaders\, so they can guide their organizations to deliver
  market-leading products and services. \n\n In the 46 years he's been in t
 he tech field\, he's worked with hundreds of organizations\, written two b
 ooks\, published hundreds of articles and podcasts\, and toured the world 
 speaking to audiences everywhere. When he can\, he does his laundry in Low
 ell\, Massachusetts. \n
LAST-MODIFIED:20240214T154716
LOCATION:Virtual Event - Zoom
ORGANIZER:mailto:noreply-calendar@tito.io
SUMMARY:Jared Spool – Strategic UX Research is the Next Big Thing
URL;VALUE=URI:https://ti.to/ixda/jared-spool-strategic-ux-research-is-the-n
 ext-big-thing
URL;VALUE=URI:https://ti.to/ixda/jared-spool-strategic-ux-research-is-the-n
 ext-big-thing
END:VEVENT
END:VCALENDAR
