BEGIN:VCALENDAR
VERSION:2.0
PRODID:icalendar-ruby
CALSCALE:GREGORIAN
BEGIN:VEVENT
DTSTAMP:20260423T160433Z
UID:xnAd4Q
DTSTART;VALUE=DATE:20211109
DTEND;VALUE=DATE:20211113
CLASS:PUBLIC
CREATED:20191101T144550
DESCRIPTION: ILA21 es una conferencia 100% virtual. A través de experienci
 as en línea y espacios dedicados a socializar\, vas a sentirte parte de C
 osta Rica y de nuestra comunidad desde donde estés. \n\n Este último añ
 o y medio agudizó la inequidad en el mundo. Nuestra meta para ILA21 es te
 ner distintas entradas que permitan a toda la comunidad participar. \n
LAST-MODIFIED:20250514T123403
LOCATION:San José\, Costa Rica
ORGANIZER:mailto:tickets@ila.ixda.org
SUMMARY:Interaction Latin America 21
URL;VALUE=URI:https://ti.to/ixda/ila21
URL;VALUE=URI:https://ti.to/ixda/ila21
END:VEVENT
END:VCALENDAR
