BEGIN:VCALENDAR
VERSION:2.0
PRODID:icalendar-ruby
CALSCALE:GREGORIAN
BEGIN:VTIMEZONE
TZID:Europe/Madrid
BEGIN:DAYLIGHT
DTSTART:20240331T030000
TZOFFSETFROM:+0100
TZOFFSETTO:+0200
RRULE:FREQ=YEARLY;BYDAY=-1SU;BYMONTH=3
TZNAME:CEST
END:DAYLIGHT
BEGIN:STANDARD
DTSTART:20231029T020000
TZOFFSETFROM:+0200
TZOFFSETTO:+0100
RRULE:FREQ=YEARLY;BYDAY=-1SU;BYMONTH=10
TZNAME:CET
END:STANDARD
END:VTIMEZONE
BEGIN:VEVENT
DTSTAMP:20260421T115038Z
UID:dvyHEA
DTSTART;VALUE=DATE:20240205
DTEND;VALUE=DATE:20240216
CLASS:PUBLIC
CREATED:20231203T180243
DESCRIPTION: Join expert and author Itamar Gilad to discover how Lean Produ
 ct Management is transforming the way companies discover and build product
 s. \n\n You'll practice hands-on dozens of modern techniques: The North St
 ar Metric\, OKRs\, Idea banks\, ICE scores\, Confidence Meter\, Assumption
  maps\, AFTER framework\, GIST board\, and more. \n\n The workshop is desi
 gned for product managers/owners\, product leaders\, CPOs\, and founders\,
  as well as for engineering leads and managers\, CTOs\, UX designers\, res
 earchers\, data analysts\, product marketing managers\, and anyone else in
 volved in product development. \n
LAST-MODIFIED:20231207T170934
LOCATION:Online
ORGANIZER:mailto:info@itamargilad.com
SUMMARY:Lean Product Management Workshop - Feb 2024
URL;VALUE=URI:https://ti.to/itamar-gilad-events/lean-pm-022024
URL;VALUE=URI:https://ti.to/itamar-gilad-events/lean-pm-022024
END:VEVENT
END:VCALENDAR
