BEGIN:VCALENDAR
VERSION:2.0
PRODID:icalendar-ruby
CALSCALE:GREGORIAN
BEGIN:VTIMEZONE
TZID:Europe/Dublin
BEGIN:DAYLIGHT
DTSTART:20251026T010000
TZOFFSETFROM:+0100
TZOFFSETTO:+0000
RRULE:FREQ=YEARLY;BYDAY=-1SU;BYMONTH=10
TZNAME:GMT
END:DAYLIGHT
BEGIN:STANDARD
DTSTART:20260329T020000
TZOFFSETFROM:+0000
TZOFFSETTO:+0100
RRULE:FREQ=YEARLY;BYDAY=-1SU;BYMONTH=3
TZNAME:IST
END:STANDARD
END:VTIMEZONE
BEGIN:VEVENT
DTSTAMP:20260425T113349Z
UID:E3fwow
DTSTART;TZID=Europe/Dublin:20260307T070000
DTEND;TZID=Europe/Dublin:20260308T190000
CLASS:PUBLIC
CREATED:20251215T145251
DESCRIPTION: The Irish Powerlifting Federation University National and Open
  Championships will take place in Castletroy Park Hotel\, Limerick hosted 
 by the UL Wolves\, on the 7th and 8th of March 2026. \n\n WARM UP ROOM PAS
 SES WILL GO OFFLINE AT 11AM FRIDAY TO FACILITATE ADMIN AND WILL GO LIVE AG
 AIN AT 7AM SATURDAY. \n
LAST-MODIFIED:20260412T185613
LOCATION:Castletroy Park Hotel\, Limerick
ORGANIZER:mailto:competitions@irishpowerliftingfederation.com
SUMMARY:IrishPF University National and Open Championships 2026
URL;VALUE=URI:https://ti.to/ipf/irishpf-university-championships-2026
URL;VALUE=URI:https://ti.to/ipf/irishpf-university-championships-2026
END:VEVENT
END:VCALENDAR
