BEGIN:VCALENDAR
VERSION:2.0
PRODID:icalendar-ruby
CALSCALE:GREGORIAN
BEGIN:VTIMEZONE
TZID:Europe/Dublin
BEGIN:DAYLIGHT
DTSTART:20251026T010000
TZOFFSETFROM:+0100
TZOFFSETTO:+0000
RRULE:FREQ=YEARLY;BYDAY=-1SU;BYMONTH=10
TZNAME:GMT
END:DAYLIGHT
BEGIN:STANDARD
DTSTART:20260329T020000
TZOFFSETFROM:+0000
TZOFFSETTO:+0100
RRULE:FREQ=YEARLY;BYDAY=-1SU;BYMONTH=3
TZNAME:IST
END:STANDARD
END:VTIMEZONE
BEGIN:VEVENT
DTSTAMP:20260425T113945Z
UID:0yCm3Q
DTSTART;TZID=Europe/Dublin:20260207T070000
DTEND;TZID=Europe/Dublin:20260208T190000
CLASS:PUBLIC
CREATED:20251031T125858
DESCRIPTION: The Irish Powerlifting Federation February Open will take plac
 e in Phenom Gym\, Cork on the 7th &amp\;8th of February 2026. \n\n Entry R
 equirements \n\n \n Open entry competition available to all IrishPF member
 s \n 2026 membership of the IrishPF must be purchased to be eligible to bu
 y a ticket. Membership can be found here: https://irishpf.clubforce.com/pr
 oducts/membership \n \n\n Key Information \n\n \n Full IPF Anti-Doping pro
 cedures will be in place \n This event will be a qualifier for Junior Nati
 onals 2026\, Masters Nationals 2026\, All Irelands 2026 and IrishPF Open N
 ationals 2026 \n All personal equipment must meet IPF specifications\, but
  does not need to be on the IPF approved list. See here for more details \
 n Please familiarise yourself with the IPF Technical Rules and Anti Doping
  Guidelines.  \n Venue: Phenom Gym\, Unit 6 Monahan Rd\, Ballintemple\, Co
 rk\, T12 V206 \n Date: 7th/8th February 2026 \n You must complete the Entr
 y Form after completing your purchase by clicking "Assign This Ticket" \n 
 Final deadline for completing entry forms will be January 2nd at 23:00 Iri
 sh time \n Flight splits (i.e. “what flight am I in?”) will be confirm
 ed by Wednesday 7th January. \n Tickets are NON-REFUNDABLE and NON-TRANSFE
 RABLE\, once registered to a lifter on the entry form will be valid for th
 at lifter\, and that lifter only. If you require changes to weight classes
 \, you must email your request to competitions@irishpowerliftingfederation
 .com \n Please note: By purchasing a ticket to this event\, you agree to h
 ave your image potentially used in promotional media\, and to be featured 
 in our livestream &amp\; replay of the competition. \n Please note: Result
 s of this competition will be uploaded to OpenPowerlifting.org. By purchas
 ing a ticket to this competition\, you agree to have your result uploaded 
 to OpenPowerlifting. \n By purchasing this ticket you agree to adhere to t
 he aforementioned Technical Rules and Anti Doping Guidelines. \n \n
LAST-MODIFIED:20260412T185613
LOCATION:Phenom Gym\, Unit 6 Monahan Rd\, Ballintemple\, Cork T12 V206
ORGANIZER:mailto:competitions@irishpowerliftingfederation.com
SUMMARY:IrishPF February Open 2026
URL;VALUE=URI:https://ti.to/ipf/irishpf-february-open-2026
URL;VALUE=URI:https://ti.to/ipf/irishpf-february-open-2026
END:VEVENT
END:VCALENDAR
