BEGIN:VCALENDAR
VERSION:2.0
PRODID:icalendar-ruby
CALSCALE:GREGORIAN
BEGIN:VTIMEZONE
TZID:Asia/Singapore
BEGIN:STANDARD
DTSTART:19820101T000000
TZOFFSETFROM:+0730
TZOFFSETTO:+0800
TZNAME:+08
END:STANDARD
END:VTIMEZONE
BEGIN:VEVENT
DTSTAMP:20260422T153110Z
UID:bHRMoA
DTSTART;VALUE=DATE:20200115
DTEND;VALUE=DATE:20200119
CLASS:PUBLIC
CREATED:20190828T163224
DESCRIPTION: iOS Conf SG 2020 is here! \n\n Workshop tickets are SOLD OUT. 
 \n\n Check our website to find more. \n
LAST-MODIFIED:20210609T201610
LOCATION:Shaw Foundation Alumni House\, National University of Singapore
ORGANIZER:mailto:subh@iosconf.sg
SUMMARY:iOS Conf SG 2020
URL;VALUE=URI:https://ti.to/iosconfsg/2020
URL;VALUE=URI:https://ti.to/iosconfsg/2020
END:VEVENT
END:VCALENDAR
