BEGIN:VCALENDAR
VERSION:2.0
PRODID:icalendar-ruby
CALSCALE:GREGORIAN
BEGIN:VEVENT
DTSTAMP:20260421T083630Z
UID:g5ERLg
DTSTART;VALUE=DATE:20190226
DTEND;VALUE=DATE:20190302
CLASS:PUBLIC
CREATED:20181025T110952
LAST-MODIFIED:20250113T135244
LOCATION:Copenhagen
ORGANIZER:mailto:Info@IntraTeam.com
SUMMARY:IntraTeam Event Copenhagen 2019
URL;VALUE=URI:https://ti.to/intrateam/IntraTeamEventCopenhagen2019-EUR
URL;VALUE=URI:https://ti.to/intrateam/IntraTeamEventCopenhagen2019-EUR
END:VEVENT
END:VCALENDAR
