BEGIN:VCALENDAR
VERSION:2.0
PRODID:icalendar-ruby
CALSCALE:GREGORIAN
BEGIN:VEVENT
DTSTAMP:20260422T120058Z
UID:pyow4Q
DTSTART;VALUE=DATE:20200514
DTEND;VALUE=DATE:20200515
CLASS:PUBLIC
CREATED:20190913T134536
DESCRIPTION: INTO members and their families are invited to attend our free
  mortgage and tax advisory seminars. These seminars will take place from 7
 .00pm - 8.30pm and cover the following topics:\n• Tips on Mortgage Appli
 cations\n• First Time Buyers\, Moving Home or Investment Properties\n•
  Saving money by changing mortgage providers\n• The role of your solicit
 ors in buying or selling property\n• Ownership options\n• The importan
 ce of drafting/updating your will after purchasing property\n• Tax relie
 fs available for property owners\n• How to reduce your tax bill on renta
 l income \n• Understanding your tax obligations\n• Gifting or inheriti
 ng property\n• Tax tips\n• Offers exclusive to INTO members and their 
 families  \n
LAST-MODIFIED:20200329T194734
LOCATION:Teachers' Club\, 36 Parnell Square\, Dublin 1
ORGANIZER:mailto:glackin@into.ie
SUMMARY:Mortgage and Tax Advisory Seminar\, Teachers' Club\, 36 Parnell Squ
 are\, Dublin 1
URL;VALUE=URI:https://ti.to/into-events/mortgage-tax-seminar-dublin-teacher
 s-club
URL;VALUE=URI:https://ti.to/into-events/mortgage-tax-seminar-dublin-teacher
 s-club
END:VEVENT
END:VCALENDAR
