BEGIN:VCALENDAR
VERSION:2.0
PRODID:icalendar-ruby
CALSCALE:GREGORIAN
BEGIN:VTIMEZONE
TZID:Europe/Zurich
BEGIN:DAYLIGHT
DTSTART:20240331T030000
TZOFFSETFROM:+0100
TZOFFSETTO:+0200
RRULE:FREQ=YEARLY;BYDAY=-1SU;BYMONTH=3
TZNAME:CEST
END:DAYLIGHT
BEGIN:STANDARD
DTSTART:20231029T020000
TZOFFSETFROM:+0200
TZOFFSETTO:+0100
RRULE:FREQ=YEARLY;BYDAY=-1SU;BYMONTH=10
TZNAME:CET
END:STANDARD
END:VTIMEZONE
BEGIN:VEVENT
DTSTAMP:20260421T115122Z
UID:iRqAHQ
DTSTART;VALUE=DATE:20231122
DTEND;VALUE=DATE:20231123
CLASS:PUBLIC
CREATED:20230918T131230
DESCRIPTION: Agenda siehe / agenda vois \n\n https://interlis.discourse.gro
 up/t/3-interlis-anwender-innen-treffen/151 \n
LAST-MODIFIED:20250627T113304
LOCATION:
ORGANIZER:mailto:noreply-calendar@tito.io
SUMMARY:Drittes INTERLIS Anwender:innen-Treffen / Troisième rencontre des 
 utilisateurs INTERLIS
URL;VALUE=URI:https://ti.to/interlis-anwenderinnentreffen/3
URL;VALUE=URI:https://ti.to/interlis-anwenderinnentreffen/3
END:VEVENT
END:VCALENDAR
