BEGIN:VCALENDAR
VERSION:2.0
PRODID:icalendar-ruby
CALSCALE:GREGORIAN
BEGIN:VTIMEZONE
TZID:America/New_York
BEGIN:DAYLIGHT
DTSTART:20250309T030000
TZOFFSETFROM:-0500
TZOFFSETTO:-0400
RRULE:FREQ=YEARLY;BYDAY=2SU;BYMONTH=3
TZNAME:EDT
END:DAYLIGHT
BEGIN:STANDARD
DTSTART:20251102T010000
TZOFFSETFROM:-0400
TZOFFSETTO:-0500
RRULE:FREQ=YEARLY;BYDAY=1SU;BYMONTH=11
TZNAME:EST
END:STANDARD
END:VTIMEZONE
BEGIN:VEVENT
DTSTAMP:20260425T170946Z
UID:S9AMGA
DTSTART;TZID=America/New_York:20250415T080000
DTEND;TZID=America/New_York:20250416T180000
CLASS:PUBLIC
CREATED:20240430T055707
DESCRIPTION: An exclusive gathering of the major influencers in AI globally
  across business\, science and tech for mind boggling innovation\, heated 
 discussions on AI4good\, applied solutions for enterprise\, hands-on works
 hops and the development of plans for advancing the application of AI in t
 he coming year. \n
LAST-MODIFIED:20260409T044035
LOCATION:Montreal\, Canada
ORGANIZER:mailto:enquiries@inspired-minds.co.uk
SUMMARY:World Summit AI Canada 2025
URL;VALUE=URI:https://ti.to/inspiredminds/world-summit-ai-americas-2025
URL;VALUE=URI:https://ti.to/inspiredminds/world-summit-ai-americas-2025
END:VEVENT
END:VCALENDAR
