BEGIN:VCALENDAR
VERSION:2.0
PRODID:icalendar-ruby
CALSCALE:GREGORIAN
BEGIN:VEVENT
DTSTAMP:20260419T172633Z
UID:E3qx0Q
DTSTART;VALUE=DATE:20210419
DTEND;VALUE=DATE:20210422
CLASS:PUBLIC
CREATED:20200610T133327
DESCRIPTION: An exclusive gathering of the major influencers in AI globally
  across business\, science and tech for mind boggling innovation\, heated 
 discussions on AI4good\, applied solutions for enterprise\, hands-on works
 hops and the development of plans for advancing the application of AI in t
 he coming year. \n
LAST-MODIFIED:20260409T084035
LOCATION:Online
ORGANIZER:mailto:americas@worldsummit.ai
SUMMARY:World Summit AI Americas 2021
URL;VALUE=URI:https://ti.to/inspiredminds/world-summit-ai-americas-2021
URL;VALUE=URI:https://ti.to/inspiredminds/world-summit-ai-americas-2021
END:VEVENT
END:VCALENDAR
