BEGIN:VCALENDAR
VERSION:2.0
PRODID:icalendar-ruby
CALSCALE:GREGORIAN
BEGIN:VTIMEZONE
TZID:Europe/Amsterdam
BEGIN:DAYLIGHT
DTSTART:20230326T030000
TZOFFSETFROM:+0100
TZOFFSETTO:+0200
RRULE:FREQ=YEARLY;BYDAY=-1SU;BYMONTH=3
TZNAME:CEST
END:DAYLIGHT
BEGIN:STANDARD
DTSTART:20231029T020000
TZOFFSETFROM:+0200
TZOFFSETTO:+0100
RRULE:FREQ=YEARLY;BYDAY=-1SU;BYMONTH=10
TZNAME:CET
END:STANDARD
END:VTIMEZONE
BEGIN:VEVENT
DTSTAMP:20260424T145642Z
UID:muldMg
DTSTART;VALUE=DATE:20231010
DTEND;VALUE=DATE:20231011
CLASS:PUBLIC
CREATED:20230818T003318
DESCRIPTION: Hands on interactive Workshop as part of World AI Week and Wor
 ld Summit AI \n
LAST-MODIFIED:20260409T104035
LOCATION:10th October 2023\, Amsterdam
ORGANIZER:mailto:hello@worldsummit.ai
SUMMARY:World AI Week 2023 EU AI Act Workshop
URL;VALUE=URI:https://ti.to/inspiredminds/waiw-eu-ai-act-workshop-2023
URL;VALUE=URI:https://ti.to/inspiredminds/waiw-eu-ai-act-workshop-2023
END:VEVENT
END:VCALENDAR
