BEGIN:VCALENDAR
VERSION:2.0
PRODID:icalendar-ruby
CALSCALE:GREGORIAN
BEGIN:VEVENT
DTSTAMP:20260421T175106Z
UID:AtdOmw
DTSTART;VALUE=DATE:20230913
DTEND;VALUE=DATE:20230915
CLASS:PUBLIC
CREATED:20220907T161506
DESCRIPTION: Intelligent Health AI will once again bring together the globa
 l AI and health community to advance discussions on how AI can be used to 
 prevent and solve some of the world’s greatest healthcare problems\, and
  improve the health of the human race. \n
LAST-MODIFIED:20260409T084035
LOCATION:Basel\, Switzerland
ORGANIZER:mailto:hello@intelligenthealth.ai
SUMMARY:Intelligent Health 2023
URL;VALUE=URI:https://ti.to/inspiredminds/intelligent-health-switzerland-20
 23
URL;VALUE=URI:https://ti.to/inspiredminds/intelligent-health-switzerland-20
 23
END:VEVENT
END:VCALENDAR
