BEGIN:VCALENDAR
VERSION:2.0
PRODID:icalendar-ruby
CALSCALE:GREGORIAN
BEGIN:VEVENT
DTSTAMP:20260420T161737Z
UID:Fykerg
DTSTART;VALUE=DATE:20180621
DTEND;VALUE=DATE:20180622
CLASS:PUBLIC
CREATED:20180220T200951
DESCRIPTION: Call for talks -&gt\; https://inog.net/talk   \n\n Agenda \n6.
 00pm - Open : food\, drinks\, social \n6.30pm - Intro : welcome and intro 
 from iNOG \n6.40pm Talk 1:  Vesna Manojlovic @Ms_Multicolor RIPE - Ethics 
 in Technology \n6.55pm Talk 2: Matt Oswalt @mierdin + David Gee @vtep42 (J
 uniper Networks) \,  Network Reliability Engineering - Automation's North 
 Star \n7.20pm Talk 3:  Sofia Silva Berenguer @SofiaSilvaB APNIC - BGP Data
  Collection in the AP region\, creating better local maps \n7.35pm Talk 4:
   Eric Leahy  @ericleahy+ Daniele Vazzola  @danielevazzola (Workday) "How 
 to monitor yourself for free!" \n8.00pm - Outro : community notices\, upda
 tes\, and social meet and greet \n9.40pm Soft stop \n10.00pm Hard stop \n
LAST-MODIFIED:20180621T201932
LOCATION:Dublin\, Ireland
ORGANIZER:mailto:admin@inog.net
SUMMARY:iNOG::10
URL;VALUE=URI:https://ti.to/inog/10
URL;VALUE=URI:https://ti.to/inog/10
END:VEVENT
END:VCALENDAR
