BEGIN:VCALENDAR
VERSION:2.0
PRODID:icalendar-ruby
CALSCALE:GREGORIAN
BEGIN:VTIMEZONE
TZID:Europe/Paris
BEGIN:DAYLIGHT
DTSTART:20250330T030000
TZOFFSETFROM:+0100
TZOFFSETTO:+0200
RRULE:FREQ=YEARLY;BYDAY=-1SU;BYMONTH=3
TZNAME:CEST
END:DAYLIGHT
BEGIN:STANDARD
DTSTART:20251026T020000
TZOFFSETFROM:+0200
TZOFFSETTO:+0100
RRULE:FREQ=YEARLY;BYDAY=-1SU;BYMONTH=10
TZNAME:CET
END:STANDARD
END:VTIMEZONE
BEGIN:VEVENT
DTSTAMP:20260422T085604Z
UID:PdBpWA
DTSTART;TZID=Europe/Paris:20250910T140000
DTEND;TZID=Europe/Paris:20250912T123000
CLASS:PUBLIC
CREATED:20241118T161934
DESCRIPTION: The first gathering uniting longevity clinics\, wellness cente
 rs\, and beauty and wellness brands to spark collaborations\, drive innova
 tion\, and bridge beauty with health. \n\n INNOCOS Longevity Summits aims 
 to forge meaningful collaborations between beauty and wellness brands\, re
 tailers\, clinics\, scientists\, wellness centres\, and doctors—all unit
 ed by a shared vision to advance the longevity movement. By bridging scien
 ce and business\, these summits catalyse innovation\, helping stakeholders
  connect across disciplines to shape the future of healthy beauty. From sk
 incare\, supplements\, and devices to fragrance and makeup\, we champion l
 ongevity-driven solutions across every category\, redefining beauty not ju
 st as appearance but as a lifelong expression of health\, vitality\, and w
 ell-being. \n\n Website HERE&gt\;\, Agenda HERE \n\n * Important Ticket Di
 sclaimer:\nPlease ensure you select the correct ticket category when regis
 tering. Tickets are priced differently for brands/retailer and suppliers/s
 ervice providers. If a company registers under the incorrect category\, we
  reserve the right to request payment of the price difference to match the
  appropriate ticket type. Failure to do so may result in cancellation of y
 our registration. \n\n Questions about registration? Or would you like to 
 pay by an invoice instead?\nEmail registration@innocosevents.com \n
LAST-MODIFIED:20251001T231242
LOCATION:Geneva
ORGANIZER:mailto:registration@innocosevents.com
SUMMARY:INNOCOS Longevity Geneva
URL;VALUE=URI:https://ti.to/innocos/europe2025
URL;VALUE=URI:https://ti.to/innocos/europe2025
END:VEVENT
END:VCALENDAR
