BEGIN:VCALENDAR
VERSION:2.0
PRODID:icalendar-ruby
CALSCALE:GREGORIAN
BEGIN:VTIMEZONE
TZID:Europe/Dublin
BEGIN:DAYLIGHT
DTSTART:20211031T010000
TZOFFSETFROM:+0100
TZOFFSETTO:+0000
RRULE:FREQ=YEARLY;BYDAY=-1SU;BYMONTH=10
TZNAME:GMT
END:DAYLIGHT
BEGIN:STANDARD
DTSTART:20210328T020000
TZOFFSETFROM:+0000
TZOFFSETTO:+0100
RRULE:FREQ=YEARLY;BYDAY=-1SU;BYMONTH=3
TZNAME:IST
END:STANDARD
END:VTIMEZONE
BEGIN:VEVENT
DTSTAMP:20260421T163425Z
UID:uqSa9w
DTSTART;VALUE=DATE:20211006
DTEND;VALUE=DATE:20211009
CLASS:PUBLIC
CREATED:20201124T154214
DESCRIPTION: 2000 Attendees | 3 Days | 40+ Speakers | 8 Workshops \n\n UXDX
  brings together Product\, UX\, Design and Dev to help teams build product
 s that customers love\, delivers on business outcomes and people can be pr
 oud of. \n
LAST-MODIFIED:20230315T081956
LOCATION:Online
ORGANIZER:mailto:rory@uxdx.com
SUMMARY:UXDX EMEA 2021
URL;VALUE=URI:https://ti.to/initiate/emea-2021
URL;VALUE=URI:https://ti.to/initiate/emea-2021
END:VEVENT
END:VCALENDAR
