BEGIN:VCALENDAR
VERSION:2.0
PRODID:icalendar-ruby
CALSCALE:GREGORIAN
BEGIN:VEVENT
DTSTAMP:20260422T090042Z
UID:TxdVOw
DTSTART;VALUE=DATE:20170226
DTEND;VALUE=DATE:20170227
CLASS:PUBLIC
CREATED:20170213T192245
DESCRIPTION: The Town Hall was ready to go—the venue booked\, the chairs 
 unfolded\, the podium waiting. The only thing missing: Senator Dianne Fein
 stein. Despite requests from a coalition of community groups comprised of 
 15\,000 Californians to talk with their Senator face-to-face\, Feinstein h
 as declined to attend the event in Oakland\, California\, letting down her
  constituents. \n\n Despite the Senator’s absence\, the event’s organi
 zers are undeterred. We've scheduled a rousing set of speakers to fire up 
 the audience\, and encourage them to continue to take civic action. George
  Lakoff\, a linguist well-known for explaining how to frame effective poli
 tical narratives\, will take center stage\, and we'll have other speakers 
 as well. \n\n The most important speaker\, though\, is you. This "Empty Ch
 air" town hall will use the format suggested by the Indivisible Guide. We'
 ll record questions and statements from constituents and send them to Sen.
  Feinstein's office\, as well as to members of the press. We'll also encou
 rage attendees to post their feedback for Sen. Feinstein on Twitter and Fa
 cebook\, using the #FeinsteinEmptyChair hashtag. The Senator has chosen no
 t to hold an open Town Hall during this recess\, but that doesn't mean we 
 have to be silent. Come out to speak up and support resistance of the Trum
 p agenda! \n\n Come join us! \n\n Sunday\, February 26th\, 2017\, 10:00am 
 - 1:00pm \n\n Tickets required! Please sign up below. \n
LAST-MODIFIED:20170226T174036
LOCATION:Oakland\, California
ORGANIZER:mailto:indivisibleeb@gmail.com
SUMMARY:Empty Chair Town Hall for Sen. Feinstein's Constituents
URL;VALUE=URI:https://ti.to/indivisble-east-bay/sen-feinstein-town-hall
URL;VALUE=URI:https://ti.to/indivisble-east-bay/sen-feinstein-town-hall
END:VEVENT
END:VCALENDAR
