BEGIN:VCALENDAR
VERSION:2.0
PRODID:icalendar-ruby
CALSCALE:GREGORIAN
BEGIN:VEVENT
DTSTAMP:20260421T130847Z
UID:FR5aVQ
DTSTART;VALUE=DATE:20190330
DTEND;VALUE=DATE:20190401
CLASS:PUBLIC
CREATED:20190226T180715
DESCRIPTION: IndieWebCamp New  Haven 2019 is a gathering for independent we
 b creators of all kinds\, from graphic artists\, to designers\, UX enginee
 rs\, coders\, hackers\, to share ideas\, actively work on creating for the
 ir own personal websites\, and build upon each others creations. \n
LAST-MODIFIED:20241024T010505
LOCATION:New Haven\, CT
ORGANIZER:mailto:jgregmcverry@gmail.com
SUMMARY:New Haven
URL;VALUE=URI:https://ti.to/indiewebcamp/new-haven
URL;VALUE=URI:https://ti.to/indiewebcamp/new-haven
END:VEVENT
END:VCALENDAR
