BEGIN:VCALENDAR
VERSION:2.0
PRODID:icalendar-ruby
CALSCALE:GREGORIAN
BEGIN:VEVENT
DTSTAMP:20260420T004408Z
UID:RzvdGQ
DTSTART:20251115T170000
DTEND:20251115T210000
CLASS:PUBLIC
CREATED:20250918T105214
DESCRIPTION: Encuentro de desarrolladores indie en Málaga. \n
LAST-MODIFIED:20251123T105322
LOCATION:Ciberpunk Gaming Center\, Fuengirola\, Málaga
ORGANIZER:mailto:infoindiegameshow@gmail.com
SUMMARY:Indie Game Show Connect - 2º Edición
URL;VALUE=URI:https://ti.to/indiegameshow/connect-2-edicion
URL;VALUE=URI:https://ti.to/indiegameshow/connect-2-edicion
END:VEVENT
END:VCALENDAR
