BEGIN:VCALENDAR
VERSION:2.0
PRODID:icalendar-ruby
CALSCALE:GREGORIAN
BEGIN:VEVENT
DTSTAMP:20260421T125109Z
UID:mCjbPQ
DTSTART:20260310T180000
DTEND:20260310T200000
CLASS:PUBLIC
CREATED:20260203T123005
LAST-MODIFIED:20260205T170151
LOCATION:
ORGANIZER:mailto:bfinetwork@independentcinemaoffice.org.uk
SUMMARY:BFI NETWORK: Uncommon Voices
URL;VALUE=URI:https://ti.to/independent-cinema-office/uncommon-voices
URL;VALUE=URI:https://ti.to/independent-cinema-office/uncommon-voices
END:VEVENT
END:VCALENDAR
