BEGIN:VCALENDAR
VERSION:2.0
PRODID:icalendar-ruby
CALSCALE:GREGORIAN
BEGIN:VTIMEZONE
TZID:Europe/Dublin
BEGIN:DAYLIGHT
DTSTART:20231029T010000
TZOFFSETFROM:+0100
TZOFFSETTO:+0000
RRULE:FREQ=YEARLY;BYDAY=-1SU;BYMONTH=10
TZNAME:GMT
END:DAYLIGHT
BEGIN:STANDARD
DTSTART:20240331T020000
TZOFFSETFROM:+0000
TZOFFSETTO:+0100
RRULE:FREQ=YEARLY;BYDAY=-1SU;BYMONTH=3
TZNAME:IST
END:STANDARD
END:VTIMEZONE
BEGIN:VEVENT
DTSTAMP:20260424T075658Z
UID:XJeang
DTSTART;TZID=Europe/Dublin:20240307T200000
DTEND;TZID=Europe/Dublin:20240307T220000
CLASS:PUBLIC
CREATED:20240124T171348
DESCRIPTION: Described as the missing chain between Nirvana and Sun Ra\, th
 e alliance between Delphine Joussein\, Rafaëlle Rinaudo and Blanche Lafue
 nte aims at pushing their instruments beyond their limits\, with the enthu
 siasm of a mad scientist in front of his vials. \n\n Flute\, harp &amp\; d
 rums is a rare combination that this trio turns upside down. \n\n In the w
 ake of John Zorn's experiences on the borders of jazz and noise\, Nout ima
 gines its music as a scenario with surprising twists. “We believe we are
  the characters of Alien and we find ourselves in Indiana Jones\; we start
  with our eyes shut on a red movie theatre seat and we end up rocking on t
 he dancefloor." \n\n Doors open 7:30pm\nMusic begins 8:00pm \n\n For those
  interested in improv\, NOUT are also offering a workshop in the afternoon
 \, exploring improvisation and expression in music! \n\n Explore improvisa
 tion and expression in music in this enlightening and practical workshop w
 ith star punk-jazz improvising ensemble NOUT. \n\n Discover the way NOUT c
 reate their hard-core blend of punk-y free improv and jazz\, find new soun
 ds to express yourself on your instrument\, learn about electric and acous
 tic approaches to making music\, and discover new ways of thinking about c
 reating music in the moment. \n\n Open to all\, no experience of improvisa
 tion required. \n
LAST-MODIFIED:20250610T105911
LOCATION:The Cooler at The Complex\, Mary's Abbey\, Dublin 7.
ORGANIZER:mailto:admin@improvisedmusic.ie
SUMMARY:NOUT at The Cooler
URL;VALUE=URI:https://ti.to/improvised-music-company/nout-at-the-cooler
URL;VALUE=URI:https://ti.to/improvised-music-company/nout-at-the-cooler
END:VEVENT
BEGIN:VEVENT
DTSTAMP:20260424T075658Z
UID:XJeang1067293
DTSTART;TZID=Europe/Dublin:20240307T150000
DTEND;TZID=Europe/Dublin:20240307T160000
CLASS:PUBLIC
CREATED:20240219T172224
DESCRIPTION:Explore improvisation and expression in music in this enlighten
 ing and practical workshop with star punk-jazz improvising ensemble NOUT.\
 n\nDiscover the way NOUT create their hard-core blend of punk-y free impro
 v and jazz\, find new sounds to express yourself on your instrument\, lear
 n about electric and acoustic approaches to making music\, and discover ne
 w ways of thinking about creating music in the moment.\n\nOpen to all\, no
  experience of improvisation required.
LAST-MODIFIED:20240310T154354
LOCATION:The Cooler\, 12 Mary's Abbey\, Smithfield\, Dublin 7\, D07 XR70\, 
 Ireland
ORGANIZER:mailto:admin@improvisedmusic.ie
SUMMARY:[NOUT at The Cooler] Improvisation workshop with NOUT
URL;VALUE=URI:https://ti.to/improvised-music-company/nout-at-the-cooler
X-ALT-DESC;FMTTYPE=text/html:Explore improvisation and expression in music 
 in this enlightening and practical workshop with star punk-jazz improvisin
 g ensemble NOUT.\n\nDiscover the way NOUT create their hard-core blend of 
 punk-y free improv and jazz\, find new sounds to express yourself on your 
 instrument\, learn about electric and acoustic approaches to making music\
 , and discover new ways of thinking about creating music in the moment.\n\
 nOpen to all\, no experience of improvisation required.
URL;VALUE=URI:https://ti.to/improvised-music-company/nout-at-the-cooler
END:VEVENT
BEGIN:VEVENT
DTSTAMP:20260424T075658Z
UID:XJeang1066016
DTSTART;TZID=Europe/Dublin:20240307T200000
DTEND;TZID=Europe/Dublin:20240307T220000
CLASS:PUBLIC
CREATED:20240124T171349
DESCRIPTION:French punk-jazz trio NOUT explode onto the Dublin scene for th
 eir first ever Irish performance. Described as the missing chain between 
 Nirvana and Sun Ra - the alliance between Delphine Joussein\, Rafaëlle Ri
 naudo and Blanche Lafuente aims at pushing their instruments beyond their 
 limits\, with the enthusiasm of a mad scientist in front of his vials.\n\n
 Doors open 7:30pm\, music begins 8pm\nOne set\, no interval\, approx 70-80
  minutes.
LAST-MODIFIED:20240310T154354
LOCATION:The Cooler\, 12 Mary's Abbey\, Smithfield\, Dublin 7\, D07 XR70\, 
 Ireland
ORGANIZER:mailto:admin@improvisedmusic.ie
SUMMARY:[NOUT at The Cooler] NOUT Concert
URL;VALUE=URI:https://ti.to/improvised-music-company/nout-at-the-cooler
X-ALT-DESC;FMTTYPE=text/html:French punk-jazz trio NOUT explode onto the Du
 blin scene for their first ever Irish performance. Described as the missi
 ng chain between Nirvana and Sun Ra - the alliance between Delphine Jousse
 in\, Rafaëlle Rinaudo and Blanche Lafuente aims at pushing their instrume
 nts beyond their limits\, with the enthusiasm of a mad scientist in front 
 of his vials.\n\nDoors open 7:30pm\, music begins 8pm\nOne set\, no interv
 al\, approx 70-80 minutes.
URL;VALUE=URI:https://ti.to/improvised-music-company/nout-at-the-cooler
END:VEVENT
END:VCALENDAR
