BEGIN:VCALENDAR
VERSION:2.0
PRODID:icalendar-ruby
CALSCALE:GREGORIAN
BEGIN:VTIMEZONE
TZID:Europe/Dublin
BEGIN:DAYLIGHT
DTSTART:20251026T010000
TZOFFSETFROM:+0100
TZOFFSETTO:+0000
RRULE:FREQ=YEARLY;BYDAY=-1SU;BYMONTH=10
TZNAME:GMT
END:DAYLIGHT
BEGIN:STANDARD
DTSTART:20250330T020000
TZOFFSETFROM:+0000
TZOFFSETTO:+0100
RRULE:FREQ=YEARLY;BYDAY=-1SU;BYMONTH=3
TZNAME:IST
END:STANDARD
END:VTIMEZONE
BEGIN:VEVENT
DTSTAMP:20260423T234621Z
UID:zP7Kqw
DTSTART;TZID=Europe/Dublin:20250508T200000
DTEND;TZID=Europe/Dublin:20250508T220000
CLASS:PUBLIC
CREATED:20250324T204016
DESCRIPTION: Doors 7:30pm/Music 8:00pm \n\n Ebb and Flow is the new and ent
 irely original project and album from the Dublin saxophonist and his wonde
 rful trio of: Greg Felton (piano)\, Barry Donohue (bass) and Shane O’Don
 ovan (drums). Its nine titles are modern\, tender\, and exciting\, featuri
 ng daring up-tempo post-bop tunes\, beautiful ballads\, and free improvisa
 tions. \n\n Michael is recognised as the leading contemporary Irish jazz m
 usician and a phenomenal tenor player who is also in demand as producer an
 d arranger.\nHe has collaborated and toured with The Mingus Big Band and S
 eptet\, saxophonists Dave Liebman\, Lee Konitz\, and George Coleman\; guit
 arists Kurt Rosenwinkel and John Abercrombie\, pianists Jason Moran\, Edwa
 rd Simon and Jason Rebello\, drummers Joey Baron\, Lewis Nash and Jim Blac
 k\, trumpeter Colin Steele\, percussionist Badal Roy\, bassist Ronan Guilf
 oyle and many more. \n\n Ebb &amp\; Flow has just been released on the rea
 ctivated Livia Records label.  \n
LAST-MODIFIED:20250610T105911
LOCATION:The Cooler at The Complex\, Mary's Abbey\, Dublin 7.
ORGANIZER:mailto:admin@improvisedmusic.ie
SUMMARY:Michael Buckley's Ebb and Flow at The Cooler
URL;VALUE=URI:https://ti.to/improvised-music-company/michael-buckley-ebb-an
 d-flow-cooler-may25
URL;VALUE=URI:https://ti.to/improvised-music-company/michael-buckley-ebb-an
 d-flow-cooler-may25
END:VEVENT
BEGIN:VEVENT
DTSTAMP:20260423T234621Z
UID:zP7Kqw1083476
DTSTART;TZID=Europe/Dublin:20250508T200000
DTEND;TZID=Europe/Dublin:20250508T220000
CLASS:PUBLIC
CREATED:20250324T204018
DESCRIPTION:Doors open 7:30pm\, music begins 8pm
LAST-MODIFIED:20250508T200449
LOCATION:The Cooler\, 12 Mary's Abbey\, Smithfield\, Dublin 7\, D07 XR70\, 
 Ireland
ORGANIZER:mailto:admin@improvisedmusic.ie
SUMMARY:[Michael Buckley's Ebb and Flow at The Cooler] Michael Buckley's Eb
 b and Flow concert
URL;VALUE=URI:https://ti.to/improvised-music-company/michael-buckley-ebb-an
 d-flow-cooler-may25
X-ALT-DESC;FMTTYPE=text/html:Doors open 7:30pm\, music begins 8pm
URL;VALUE=URI:https://ti.to/improvised-music-company/michael-buckley-ebb-an
 d-flow-cooler-may25
END:VEVENT
END:VCALENDAR
