BEGIN:VCALENDAR
VERSION:2.0
PRODID:icalendar-ruby
CALSCALE:GREGORIAN
BEGIN:VTIMEZONE
TZID:Europe/Dublin
BEGIN:DAYLIGHT
DTSTART:20241027T010000
TZOFFSETFROM:+0100
TZOFFSETTO:+0000
RRULE:FREQ=YEARLY;BYDAY=-1SU;BYMONTH=10
TZNAME:GMT
END:DAYLIGHT
BEGIN:STANDARD
DTSTART:20240331T020000
TZOFFSETFROM:+0000
TZOFFSETTO:+0100
RRULE:FREQ=YEARLY;BYDAY=-1SU;BYMONTH=3
TZNAME:IST
END:STANDARD
END:VTIMEZONE
BEGIN:VEVENT
DTSTAMP:20260422T085834Z
UID:D59l5Q
DTSTART;TZID=Europe/Dublin:20240530T200000
DTEND;TZID=Europe/Dublin:20240530T220000
CLASS:PUBLIC
CREATED:20240416T165653
DESCRIPTION: Doors 7:30pm/Music 8:00pm \n\n We are delighted to announce ou
 r first recipient of the ‘Excellence in Ensemble Performance Award’. T
 his award is a partnership between Dublin City University’s Jazz &amp\; 
 Contemporary Music BA program\, Improvised Music Company and Magy’s Farm
  and is given to the student who receives the highest marks for their fina
 l year performance at the National Concert Hall.  \n\n The 2023/24 winner\
 , Matthew O’Connell\, will perform with his group at The Cooler\, Dublin
  on Thursday\, May 30th\, and also at Magy’s Farm\, Dromara. \n\n Cormac
  O’Brien\, Chair of the BA in Jazz and Contemporary Music at DCU said: 
 “Matthew O'Connell has shown incredible talent and ability since beginni
 ng his studies at DCU and has gone on to excel as a guitarist and musician
 . He will undoubtedly become one of Ireland's foremost jazz guitarists and
  will hopefully go on to produce many outstanding artistic works. This ‘
 Excellence in Ensemble Performance’ award recognises the high level he h
 as achieved as a performing artist and band leader during his time at DCU 
 on the B.A. in Jazz and Contemporary Music Performance program.”  \n\n M
 atthew O'Connell is a Dublin-based jazz guitarist\, educator\, composer an
 d recent graduate of DCU where he completed his BA in Jazz and contemporar
 y music performance. With a unique and fresh sound\, O'Connell draws inspi
 ration from a wide range of styles and artists such as Kurt Rosenwinkel\, 
 Charlie Parker and Tom Ollendorf. \n\n On the night the group will perform
  a selection of Matthew’s compositions\, reflecting his diverse range of
  influences\, and perhaps a jazz standard to two. Don’t miss this opport
 unity to see a rising star of Irish jazz in the early stages of his career
 ! \n
LAST-MODIFIED:20250610T105911
LOCATION:The Cooler at The Complex\, Mary's Abbey\, Dublin 7.
ORGANIZER:mailto:admin@improvisedmusic.ie
SUMMARY:Matthew O'Connell Quartet at The Cooler
URL;VALUE=URI:https://ti.to/improvised-music-company/matthew-oconnell-quart
 et
URL;VALUE=URI:https://ti.to/improvised-music-company/matthew-oconnell-quart
 et
END:VEVENT
END:VCALENDAR
